BEGIN:VCALENDAR
VERSION:2.0
PRODID:-//koncert24.hu//Events//HU
CALSCALE:GREGORIAN
METHOD:PUBLISH
BEGIN:VEVENT
UID:event-9649@koncert24.hu
DTSTAMP:20260421T050440
DTSTART:20260527T100000
DTEND:20260527T120000
SUMMARY:2026-05-27 Iváncsa Pitypang Zenekar
DESCRIPTION:2026-05-27 Iváncsa Pitypang Zenekar\nElőadó: Pitypang Zenekar\nPitypang Zenekar
LOCATION:2454 Iváncsa, Arany János utca 1.
STATUS:CONFIRMED
SEQUENCE:0
END:VEVENT
END:VCALENDAR