BEGIN:VCALENDAR
VERSION:2.0
PRODID:-//koncert24.hu//Events//HU
CALSCALE:GREGORIAN
METHOD:PUBLISH
BEGIN:VEVENT
UID:event-9755@koncert24.hu
DTSTAMP:20260422T061326
DTSTART:20260613T150000
DTEND:20260613T170000
SUMMARY:2026-06-13 Rózsszentmárton Fakörhinta és játékpark
DESCRIPTION:2026-06-13 Rózsszentmárton Fakörhinta és játékpark\nElőadó: Fakörhinta és játékpark\nFakörhinta és játékpark
LOCATION:3033 Rózsaszentmárton Kossuth Lajos út 1.
STATUS:CONFIRMED
SEQUENCE:0
END:VEVENT
END:VCALENDAR