BEGIN:VCALENDAR
VERSION:2.0
PRODID:-//koncert24.hu//Events//HU
CALSCALE:GREGORIAN
METHOD:PUBLISH
BEGIN:VEVENT
UID:event-9693@koncert24.hu
DTSTAMP:20260422T060903
DTSTART:20260621T170000
DTEND:20260621T190000
SUMMARY:2026-06-21 Királyhelmec (SK) Nótár Mary
DESCRIPTION:2026-06-21 Királyhelmec (SK) Nótár Mary\nElőadó: Nótár Mary\nNótár Mary
LOCATION:Királyhelmec (Szlovákia) Podhradská 402/6 - Szabadtéri Színpad
STATUS:CONFIRMED
SEQUENCE:0
END:VEVENT
END:VCALENDAR